BEGIN:VCALENDAR
VERSION:2.0
PRODID:-//Canberra Climbers&#039; Association - ECPv6.15.20//NONSGML v1.0//EN
CALSCALE:GREGORIAN
METHOD:PUBLISH
X-WR-CALNAME:Canberra Climbers&#039; Association
X-ORIGINAL-URL:https://canberraclimbing.org.au
X-WR-CALDESC:Events for Canberra Climbers&#039; Association
REFRESH-INTERVAL;VALUE=DURATION:PT1H
X-Robots-Tag:noindex
X-PUBLISHED-TTL:PT1H
BEGIN:VTIMEZONE
TZID:Australia/Sydney
BEGIN:STANDARD
TZOFFSETFROM:+1100
TZOFFSETTO:+1000
TZNAME:AEST
DTSTART:20190406T160000
END:STANDARD
BEGIN:DAYLIGHT
TZOFFSETFROM:+1000
TZOFFSETTO:+1100
TZNAME:AEDT
DTSTART:20191005T160000
END:DAYLIGHT
BEGIN:STANDARD
TZOFFSETFROM:+1100
TZOFFSETTO:+1000
TZNAME:AEST
DTSTART:20200404T160000
END:STANDARD
BEGIN:DAYLIGHT
TZOFFSETFROM:+1000
TZOFFSETTO:+1100
TZNAME:AEDT
DTSTART:20201003T160000
END:DAYLIGHT
BEGIN:STANDARD
TZOFFSETFROM:+1100
TZOFFSETTO:+1000
TZNAME:AEST
DTSTART:20210403T160000
END:STANDARD
BEGIN:DAYLIGHT
TZOFFSETFROM:+1000
TZOFFSETTO:+1100
TZNAME:AEDT
DTSTART:20211002T160000
END:DAYLIGHT
END:VTIMEZONE
BEGIN:VEVENT
DTSTART;TZID=Australia/Sydney:20200318T194500
DTEND;TZID=Australia/Sydney:20200318T213000
DTSTAMP:20260425T003434
CREATED:20200211T091840Z
LAST-MODIFIED:20201007T003848Z
UID:10000135-1584560700-1584567000@canberraclimbing.org.au
SUMMARY:CANCELLED: CCA General Meeting / guest speakers Caitlin Horan & Peter Blunt
DESCRIPTION:CANCELLED UNTIL FURTHER NOTICE: \nAs a precautionary measure against the spread of the COVID-19 virus\, the ANU is cancelling all public and social events from Monday 16 March until the end of semester one (Saturday 20 June). \nThis includes all CCA General Meetings\, including this one 🙁 \n  \n\n\n\nCome and hear a rundown of the CCA’s recent activities plus general climbing news and points of interest\, including the latest news on the effects of the ACT bushfires on climbing areas. This will be followed by our guest speaker presentation. \nCCA members and non-members are welcome. \nGuest speakers: Caitlin Horan & Peter Blunt\n\nIn September 2019\, local climbers Cait Horan\, Greg Fisher\, and Peter Blunt successfully climbed the Nose on El Capitan after nearly a week of grueling climbing and only a few hours of sleep here and there. \nCait and Peter will share with us tonight some of the pain and the glory of this epic trip. \nPeter Blunt\, Cait Horan and Greg Fisher at the top of their climb of the Nose on El Capitan\, September 2019.
URL:https://canberraclimbing.org.au/event/cca-general-meeting-guest-speakers-caitlin-horan-peter-blunt/
LOCATION:Room HB3\, Hedley Bull Centre\, The Australian National University\, Fellows Road\, Acton\, ACT\, 2601
CATEGORIES:CCA general meetings
ATTACH;FMTTYPE=image/jpeg:https://canberraclimbing.org.au/wp-content/uploads/2020/02/horan-blunt-fisher-nose-1.jpg
ORGANIZER;CN="Zac Zaharias":MAILTO:zaharias@iinet.net.au
GEO:-35.2811091;149.11942
X-APPLE-STRUCTURED-LOCATION;VALUE=URI;X-ADDRESS=Room HB3 Hedley Bull Centre The Australian National University Fellows Road Acton ACT 2601;X-APPLE-RADIUS=500;X-TITLE=Fellows Road:geo:149.11942,-35.2811091
END:VEVENT
END:VCALENDAR