BEGIN:VCALENDAR
VERSION:2.0
PRODID:-//Canberra Climbers&#039; Association - ECPv6.15.20//NONSGML v1.0//EN
CALSCALE:GREGORIAN
METHOD:PUBLISH
X-WR-CALNAME:Canberra Climbers&#039; Association
X-ORIGINAL-URL:https://canberraclimbing.org.au
X-WR-CALDESC:Events for Canberra Climbers&#039; Association
REFRESH-INTERVAL;VALUE=DURATION:PT1H
X-Robots-Tag:noindex
X-PUBLISHED-TTL:PT1H
BEGIN:VTIMEZONE
TZID:Australia/Sydney
BEGIN:STANDARD
TZOFFSETFROM:+1100
TZOFFSETTO:+1000
TZNAME:AEST
DTSTART:20190406T160000
END:STANDARD
BEGIN:DAYLIGHT
TZOFFSETFROM:+1000
TZOFFSETTO:+1100
TZNAME:AEDT
DTSTART:20191005T160000
END:DAYLIGHT
BEGIN:STANDARD
TZOFFSETFROM:+1100
TZOFFSETTO:+1000
TZNAME:AEST
DTSTART:20200404T160000
END:STANDARD
BEGIN:DAYLIGHT
TZOFFSETFROM:+1000
TZOFFSETTO:+1100
TZNAME:AEDT
DTSTART:20201003T160000
END:DAYLIGHT
BEGIN:STANDARD
TZOFFSETFROM:+1100
TZOFFSETTO:+1000
TZNAME:AEST
DTSTART:20210403T160000
END:STANDARD
BEGIN:DAYLIGHT
TZOFFSETFROM:+1000
TZOFFSETTO:+1100
TZNAME:AEDT
DTSTART:20211002T160000
END:DAYLIGHT
END:VTIMEZONE
BEGIN:VEVENT
DTSTART;TZID=Australia/Sydney:20201028T193000
DTEND;TZID=Australia/Sydney:20201028T213000
DTSTAMP:20260424T124116
CREATED:20200211T094643Z
LAST-MODIFIED:20201007T003926Z
UID:10000138-1603913400-1603920600@canberraclimbing.org.au
SUMMARY:CCA General Meeting (AGM) / guest speakers Caitlin Horan & Peter Blunt
DESCRIPTION:As COVID-19 restrictions are beginning to ease a bit\, we are going to run our first General Meeting of the year! This meeting will also be our AGM\, so we will include election of CCA office bearers for 2020/2021 and a rundown of the CCA’s activities throughout this year\, as well as general climbing news and points of interest. The meeting will be followed by our guest speaker presentation\, as usual. \nCCA members and non-members are welcome. \nPlease note the change in our usual meeting venue and start time (see details below). \nGuest speaker: Caitlin Horan & Peter Blunt\nIn September 2019\, local climbers Cait Horan\, Greg Fisher\, and Peter Blunt took their 90 combined years of climbing experience to the most famous big wall in the world\, El Capitan. Climbing The Nose was the adventure of a lifetime for the trio. Four nights on the wall and only a few hours of sleep here and there\, 28 spectacular pitches and all the big wall antics. \nThe team will share with us tonight some of the pain and the glory of this epic journey. \nPeter Blunt\, Cait Horan and Greg Fisher at the top of their climb of the Nose on El Capitan\, September 2019.
URL:https://canberraclimbing.org.au/event/cca-general-meeting-agm-guest-speakers-caitlin-horan-peter-blunt/
LOCATION:Ainslie Football & Social Club\, 52 Wakefield Avenue\, Ainslie\, ACT\, 2602\, Australia
CATEGORIES:CCA general meetings
ATTACH;FMTTYPE=image/jpeg:https://canberraclimbing.org.au/wp-content/uploads/2020/02/horan-blunt-fisher-nose-1.jpg
ORGANIZER;CN="Zac Zaharias":MAILTO:zaharias@iinet.net.au
GEO:-35.2613809;149.1383606
X-APPLE-STRUCTURED-LOCATION;VALUE=URI;X-ADDRESS=Ainslie Football & Social Club 52 Wakefield Avenue Ainslie ACT 2602 Australia;X-APPLE-RADIUS=500;X-TITLE=52 Wakefield Avenue:geo:149.1383606,-35.2613809
END:VEVENT
END:VCALENDAR