BEGIN:VCALENDAR
VERSION:2.0
PRODID:-//Canberra Climbers&#039; Association - ECPv6.15.20//NONSGML v1.0//EN
CALSCALE:GREGORIAN
METHOD:PUBLISH
X-ORIGINAL-URL:https://canberraclimbing.org.au
X-WR-CALDESC:Events for Canberra Climbers&#039; Association
REFRESH-INTERVAL;VALUE=DURATION:PT1H
X-Robots-Tag:noindex
X-PUBLISHED-TTL:PT1H
BEGIN:VTIMEZONE
TZID:Australia/Sydney
BEGIN:STANDARD
TZOFFSETFROM:+1100
TZOFFSETTO:+1000
TZNAME:AEST
DTSTART:20210403T160000
END:STANDARD
BEGIN:DAYLIGHT
TZOFFSETFROM:+1000
TZOFFSETTO:+1100
TZNAME:AEDT
DTSTART:20211002T160000
END:DAYLIGHT
BEGIN:STANDARD
TZOFFSETFROM:+1100
TZOFFSETTO:+1000
TZNAME:AEST
DTSTART:20220402T160000
END:STANDARD
BEGIN:DAYLIGHT
TZOFFSETFROM:+1000
TZOFFSETTO:+1100
TZNAME:AEDT
DTSTART:20221001T160000
END:DAYLIGHT
BEGIN:STANDARD
TZOFFSETFROM:+1100
TZOFFSETTO:+1000
TZNAME:AEST
DTSTART:20230401T160000
END:STANDARD
BEGIN:DAYLIGHT
TZOFFSETFROM:+1000
TZOFFSETTO:+1100
TZNAME:AEDT
DTSTART:20230930T160000
END:DAYLIGHT
END:VTIMEZONE
BEGIN:VEVENT
DTSTART;TZID=Australia/Sydney:20220518T190000
DTEND;TZID=Australia/Sydney:20220518T213000
DTSTAMP:20260423T054035
CREATED:20220226T094342Z
LAST-MODIFIED:20220429T094400Z
UID:10000159-1652900400-1652909400@canberraclimbing.org.au
SUMMARY:CCA General Meeting / guest speakers Matt Clark & Hugh Newall – ice climbing in Ouray\, Colorado
DESCRIPTION:Come and hear a rundown of the CCA’s recent activities plus general climbing news and points of interest\, followed by our guest speaker presentation. \nCCA members and non-members are welcome. \nDinner is available from The Limestone Kitchen at the Ainslie Football Club\, providing a great chance to relax and socialise with other CCA members before the meeting starts at 7.00pm. A table in the name of CCA is booked for 6pm. \nGuest speakers: Hugh Newall & Matt Clark – ice climbing in Ouray\, Colorado\n\nHugh and Matt have just returned after a 4 week ice climbing trip to Ouray in southern Colorado\, USA. \n\n\nThey spent their time climbing in the famous Ouray Ice Park\, as well as the many back-country climbs in the area such as Bridal Veil Falls WI5/6. They also enjoyed some back-country touring. Altogether they clocked up around 100 pitches and 3\,000m of ice climbing! \n\n\nCome along and learn some insights into the mysterious world of climbing frozen waterfalls.
URL:https://canberraclimbing.org.au/event/cca-general-meeting-2022-05-18/
LOCATION:Ainslie Football & Social Club\, 52 Wakefield Avenue\, Ainslie\, ACT\, 2602\, Australia
CATEGORIES:CCA general meetings
ATTACH;FMTTYPE=image/jpeg:https://canberraclimbing.org.au/wp-content/uploads/2022/02/Ouray-Colorado-1-800x600px.jpeg
GEO:-35.2613809;149.1383606
X-APPLE-STRUCTURED-LOCATION;VALUE=URI;X-ADDRESS=Ainslie Football & Social Club 52 Wakefield Avenue Ainslie ACT 2602 Australia;X-APPLE-RADIUS=500;X-TITLE=52 Wakefield Avenue:geo:149.1383606,-35.2613809
END:VEVENT
END:VCALENDAR