BEGIN:VCALENDAR
VERSION:2.0
PRODID:-//Canberra Climbers&#039; Association - ECPv6.15.20//NONSGML v1.0//EN
CALSCALE:GREGORIAN
METHOD:PUBLISH
X-WR-CALNAME:Canberra Climbers&#039; Association
X-ORIGINAL-URL:https://canberraclimbing.org.au
X-WR-CALDESC:Events for Canberra Climbers&#039; Association
REFRESH-INTERVAL;VALUE=DURATION:PT1H
X-Robots-Tag:noindex
X-PUBLISHED-TTL:PT1H
BEGIN:VTIMEZONE
TZID:Australia/Sydney
BEGIN:STANDARD
TZOFFSETFROM:+1100
TZOFFSETTO:+1000
TZNAME:AEST
DTSTART:20210403T160000
END:STANDARD
BEGIN:DAYLIGHT
TZOFFSETFROM:+1000
TZOFFSETTO:+1100
TZNAME:AEDT
DTSTART:20211002T160000
END:DAYLIGHT
BEGIN:STANDARD
TZOFFSETFROM:+1100
TZOFFSETTO:+1000
TZNAME:AEST
DTSTART:20220402T160000
END:STANDARD
BEGIN:DAYLIGHT
TZOFFSETFROM:+1000
TZOFFSETTO:+1100
TZNAME:AEDT
DTSTART:20221001T160000
END:DAYLIGHT
BEGIN:STANDARD
TZOFFSETFROM:+1100
TZOFFSETTO:+1000
TZNAME:AEST
DTSTART:20230401T160000
END:STANDARD
BEGIN:DAYLIGHT
TZOFFSETFROM:+1000
TZOFFSETTO:+1100
TZNAME:AEDT
DTSTART:20230930T160000
END:DAYLIGHT
END:VTIMEZONE
BEGIN:VEVENT
DTSTART;TZID=Australia/Sydney:20220921T190000
DTEND;TZID=Australia/Sydney:20220921T213000
DTSTAMP:20260422T222029
CREATED:20220226T094646Z
LAST-MODIFIED:20220924T124215Z
UID:10000161-1663786800-1663795800@canberraclimbing.org.au
SUMMARY:CCA General Meeting (AGM) / guest speaker - Matthew Clark
DESCRIPTION:Come and hear a rundown of the CCA’s recent activities plus general climbing news and points of interest\, followed by our guest speaker presentation. \nThis meeting will also be our AGM\, so we will include election of CCA office bearers for 2022/2023. \nCCA members and non-members are welcome. \nDinner is available from The Limestone Kitchen at the Ainslie Football Club\, providing a great chance to relax and socialise with other CCA members before the AGM starts at 7.00pm. A table in the name of CCA is booked for 6pm. \nGuest speaker: Matthew Clark\, Trekking and Alpine climbing in the Andes\n\nMatt has recently returned from a 2 month trip\, spent hiking and climbing in the Peruvian Andes. During the trip\, he spent a number of weeks hiking in both the Cordillera Blanca and Cordillera Huayhuash mountain ranges to acclimatise\, before setting out to climb a number of intermediate to advanced mountains in the Cordillera Blanca. \n\n\nTrip highlights include climbing 8 major routes up to D+ in difficulty\, summiting four 6\,000m peaks and a solo ascent of the North face of Ranrapalca\, 6\,162m\, D+. \nCome along and hear Matt talk about the trip\, and why he thinks the Andes are the best mountaineering playground in the world!
URL:https://canberraclimbing.org.au/event/cca-general-meeting-2022-09-21/
LOCATION:Ainslie Football & Social Club\, 52 Wakefield Avenue\, Ainslie\, ACT\, 2602\, Australia
CATEGORIES:CCA general meetings
ATTACH;FMTTYPE=image/jpeg:https://canberraclimbing.org.au/wp-content/uploads/2022/02/Trekking-and-Alpine-climbing-in-the-Andes-2-scaled.jpeg
GEO:-35.2613809;149.1383606
X-APPLE-STRUCTURED-LOCATION;VALUE=URI;X-ADDRESS=Ainslie Football & Social Club 52 Wakefield Avenue Ainslie ACT 2602 Australia;X-APPLE-RADIUS=500;X-TITLE=52 Wakefield Avenue:geo:149.1383606,-35.2613809
END:VEVENT
END:VCALENDAR