BEGIN:VCALENDAR
VERSION:2.0
PRODID:-//Canberra Climbers&#039; Association - ECPv6.15.20//NONSGML v1.0//EN
CALSCALE:GREGORIAN
METHOD:PUBLISH
X-ORIGINAL-URL:https://canberraclimbing.org.au
X-WR-CALDESC:Events for Canberra Climbers&#039; Association
REFRESH-INTERVAL;VALUE=DURATION:PT1H
X-Robots-Tag:noindex
X-PUBLISHED-TTL:PT1H
BEGIN:VTIMEZONE
TZID:Australia/Sydney
BEGIN:STANDARD
TZOFFSETFROM:+1100
TZOFFSETTO:+1000
TZNAME:AEST
DTSTART:20210403T160000
END:STANDARD
BEGIN:DAYLIGHT
TZOFFSETFROM:+1000
TZOFFSETTO:+1100
TZNAME:AEDT
DTSTART:20211002T160000
END:DAYLIGHT
BEGIN:STANDARD
TZOFFSETFROM:+1100
TZOFFSETTO:+1000
TZNAME:AEST
DTSTART:20220402T160000
END:STANDARD
BEGIN:DAYLIGHT
TZOFFSETFROM:+1000
TZOFFSETTO:+1100
TZNAME:AEDT
DTSTART:20221001T160000
END:DAYLIGHT
BEGIN:STANDARD
TZOFFSETFROM:+1100
TZOFFSETTO:+1000
TZNAME:AEST
DTSTART:20230401T160000
END:STANDARD
BEGIN:DAYLIGHT
TZOFFSETFROM:+1000
TZOFFSETTO:+1100
TZNAME:AEDT
DTSTART:20230930T160000
END:DAYLIGHT
END:VTIMEZONE
BEGIN:VEVENT
DTSTART;TZID=Australia/Sydney:20221116T193000
DTEND;TZID=Australia/Sydney:20221116T213000
DTSTAMP:20260422T191113
CREATED:20220226T094725Z
LAST-MODIFIED:20221116T025332Z
UID:10000162-1668627000-1668634200@canberraclimbing.org.au
SUMMARY:CCA General Meeting / guest speaker Zac Zaharias
DESCRIPTION:Come and hear a rundown of the CCA’s recent activities plus general climbing news and points of interest\, followed by our guest speaker presentation. \nCCA members and non-members are welcome. \nDinner is available from The Limestone Kitchen at the Ainslie Football Club\, providing a great chance to relax and socialise with other CCA members before the AGM starts at 7.00pm. A table in the name of CCA is booked for 6pm. \nGuest speaker: CCA President\, Zac Zaharias – climbing in Nepal\nZac will be presenting on his recent reconnaissance of Sita Chuchura (6611m) – a rarely climbed peak in the Dhaulagiri range of western Nepal. The reconnaissance is for a forthcoming summit attempt in 2023. \nThis was Zac’s first visit to this region since his successful ascent of Dhaulagiri I (8167 m) in 1997\, and he will provide some commentary on changes since that climb.
URL:https://canberraclimbing.org.au/event/cca-general-meeting-2022-11-16/
LOCATION:Ainslie Football & Social Club\, 52 Wakefield Avenue\, Ainslie\, ACT\, 2602\, Australia
CATEGORIES:CCA general meetings
ATTACH;FMTTYPE=image/jpeg:https://canberraclimbing.org.au/wp-content/uploads/2022/02/Sita-Chuchura-from-Hidden-Valley.jpeg
GEO:-35.2613809;149.1383606
X-APPLE-STRUCTURED-LOCATION;VALUE=URI;X-ADDRESS=Ainslie Football & Social Club 52 Wakefield Avenue Ainslie ACT 2602 Australia;X-APPLE-RADIUS=500;X-TITLE=52 Wakefield Avenue:geo:149.1383606,-35.2613809
END:VEVENT
END:VCALENDAR