BEGIN:VCALENDAR
VERSION:2.0
PRODID:-//Canberra Climbers&#039; Association - ECPv6.15.20//NONSGML v1.0//EN
CALSCALE:GREGORIAN
METHOD:PUBLISH
X-WR-CALNAME:Canberra Climbers&#039; Association
X-ORIGINAL-URL:https://canberraclimbing.org.au
X-WR-CALDESC:Events for Canberra Climbers&#039; Association
REFRESH-INTERVAL;VALUE=DURATION:PT1H
X-Robots-Tag:noindex
X-PUBLISHED-TTL:PT1H
BEGIN:VTIMEZONE
TZID:Australia/Sydney
BEGIN:STANDARD
TZOFFSETFROM:+1100
TZOFFSETTO:+1000
TZNAME:AEST
DTSTART:20220402T160000
END:STANDARD
BEGIN:DAYLIGHT
TZOFFSETFROM:+1000
TZOFFSETTO:+1100
TZNAME:AEDT
DTSTART:20221001T160000
END:DAYLIGHT
BEGIN:STANDARD
TZOFFSETFROM:+1100
TZOFFSETTO:+1000
TZNAME:AEST
DTSTART:20230401T160000
END:STANDARD
BEGIN:DAYLIGHT
TZOFFSETFROM:+1000
TZOFFSETTO:+1100
TZNAME:AEDT
DTSTART:20230930T160000
END:DAYLIGHT
BEGIN:STANDARD
TZOFFSETFROM:+1100
TZOFFSETTO:+1000
TZNAME:AEST
DTSTART:20240406T160000
END:STANDARD
BEGIN:DAYLIGHT
TZOFFSETFROM:+1000
TZOFFSETTO:+1100
TZNAME:AEDT
DTSTART:20241005T160000
END:DAYLIGHT
END:VTIMEZONE
BEGIN:VEVENT
DTSTART;TZID=Australia/Sydney:20230719T193000
DTEND;TZID=Australia/Sydney:20230719T213000
DTSTAMP:20260422T061301
CREATED:20230628T005301Z
LAST-MODIFIED:20230628T011213Z
UID:10000188-1689795000-1689802200@canberraclimbing.org.au
SUMMARY:CCA General Meeting / guest speakers Lakpa Sherpa and Chris Burke – climbing and trekking in the Himalaya
DESCRIPTION:Come and hear a rundown of the CCA’s recent activities plus general climbing news and points of interest\, followed by our guest speaker presentation. \nCCA members and non-members are welcome. \nDinner is available from The Limestone Kitchen at the Ainslie Football Club\, providing a great chance to relax and socialise with other CCA members before the meeting starts at 7.30pm. A table in the name of CCA is booked for 6pm. \nGuest speakers:  Lakpa Sherpa and Chris Burke – climbing and trekking in the Himalaya\nLakpa Sherpa and Chris Burke \nLakpa Sherpa and Chris (Jensen) Burke have climbed many mountains in the Himalaya\, including Mount Everest\, K2\, Kanchenjunga and Annapurna. \nBetween them\, they have more than 25 x 8\,000m summits\, with Lakpa having multiple successful 8\,000m ascents\, with summits by both of them on 10 of the world’s highest peaks over 8\,000m. \nLakpa is also well known for his successful 18-pitch ice climb of the 800m+ ice-fall known as ‘Losar in Kwangde near Namche Bazaar in Nepal (2006). \nLakpa has led mountaineering expeditions\, treks and performed rescues throughout the Himalaya over many years\, having commenced his technical training at the Himalayan Mountaineering Institute in Darjeeling (India). For many years\, Lakpa had the most summits of Ama Dablam\, the jewel of Nepal’s Khumbu region. \nChris has trekked and climbed throughout the Himalaya and around the world more broadly\, having also completed the feat known as the ‘7 Summits’\, to climb to the summit of the highest peak on each of the 7 continents. Over the years\, she has also supported and raised funds for the education and refuge of women and girls in Nepal. \nChris and Lakpa are married and in the last year or so moved from their Sydney base to Canberra.
URL:https://canberraclimbing.org.au/event/cca-general-meeting-2023-07-19/
LOCATION:Ainslie Football & Social Club\, 52 Wakefield Avenue\, Ainslie\, ACT\, 2602\, Australia
CATEGORIES:CCA general meetings
ATTACH;FMTTYPE=image/jpeg:https://canberraclimbing.org.au/wp-content/uploads/2023/06/Lakpa-Sherpa-and-Chris-Burke-K2-serac-travers.jpg
ORGANIZER;CN="Zac Zaharias":MAILTO:zaharias@iinet.net.au
GEO:-35.2613809;149.1383606
X-APPLE-STRUCTURED-LOCATION;VALUE=URI;X-ADDRESS=Ainslie Football & Social Club 52 Wakefield Avenue Ainslie ACT 2602 Australia;X-APPLE-RADIUS=500;X-TITLE=52 Wakefield Avenue:geo:149.1383606,-35.2613809
END:VEVENT
END:VCALENDAR