BEGIN:VCALENDAR
VERSION:2.0
PRODID:-//Canberra Climbers&#039; Association - ECPv6.15.20//NONSGML v1.0//EN
CALSCALE:GREGORIAN
METHOD:PUBLISH
X-ORIGINAL-URL:https://canberraclimbing.org.au
X-WR-CALDESC:Events for Canberra Climbers&#039; Association
REFRESH-INTERVAL;VALUE=DURATION:PT1H
X-Robots-Tag:noindex
X-PUBLISHED-TTL:PT1H
BEGIN:VTIMEZONE
TZID:Australia/Sydney
BEGIN:STANDARD
TZOFFSETFROM:+1100
TZOFFSETTO:+1000
TZNAME:AEST
DTSTART:20180331T160000
END:STANDARD
BEGIN:DAYLIGHT
TZOFFSETFROM:+1000
TZOFFSETTO:+1100
TZNAME:AEDT
DTSTART:20181006T160000
END:DAYLIGHT
BEGIN:STANDARD
TZOFFSETFROM:+1100
TZOFFSETTO:+1000
TZNAME:AEST
DTSTART:20190406T160000
END:STANDARD
BEGIN:DAYLIGHT
TZOFFSETFROM:+1000
TZOFFSETTO:+1100
TZNAME:AEDT
DTSTART:20191005T160000
END:DAYLIGHT
BEGIN:STANDARD
TZOFFSETFROM:+1100
TZOFFSETTO:+1000
TZNAME:AEST
DTSTART:20200404T160000
END:STANDARD
BEGIN:DAYLIGHT
TZOFFSETFROM:+1000
TZOFFSETTO:+1100
TZNAME:AEDT
DTSTART:20201003T160000
END:DAYLIGHT
END:VTIMEZONE
BEGIN:VEVENT
DTSTART;TZID=Australia/Sydney:20191120T194500
DTEND;TZID=Australia/Sydney:20191120T213000
DTSTAMP:20260425T081745
CREATED:20190108T035828Z
LAST-MODIFIED:20191118T052215Z
UID:10000126-1574279100-1574285400@canberraclimbing.org.au
SUMMARY:CCA General Meeting / guest speaker Hugh Newall
DESCRIPTION:Come and hear a rundown of the CCA’s recent activities plus general climbing news and points of interest\, followed by our guest speaker presentation. \nCCA members and non-members are welcome. \nGuest speaker: Hugh Newall\n\nHave you considered mountaineering in South America? \n\n\nEarlier this year\, Hugh was a member of a 43-day ANU Mountaineering Club expedition to the Cordillera Blanca\, Peru. Tonight he will be sharing an insight into climbing in the Cordillera Blanca\, recounting the expedition highlights and the lessons that were learnt.
URL:https://canberraclimbing.org.au/event/cca-general-meeting-2019-november/
LOCATION:Room HB3\, Hedley Bull Centre\, The Australian National University\, Fellows Road\, Acton\, ACT\, 2601
CATEGORIES:CCA general meetings
ATTACH;FMTTYPE=image/jpeg:https://canberraclimbing.org.au/wp-content/uploads/2019/01/Hugh.Newall.002-650px.jpg
GEO:-35.2811091;149.11942
X-APPLE-STRUCTURED-LOCATION;VALUE=URI;X-ADDRESS=Room HB3 Hedley Bull Centre The Australian National University Fellows Road Acton ACT 2601;X-APPLE-RADIUS=500;X-TITLE=Fellows Road:geo:149.11942,-35.2811091
END:VEVENT
END:VCALENDAR