BEGIN:VCALENDAR
VERSION:2.0
PRODID:-//Canberra Climbers&#039; Association - ECPv6.15.20//NONSGML v1.0//EN
CALSCALE:GREGORIAN
METHOD:PUBLISH
X-ORIGINAL-URL:https://canberraclimbing.org.au
X-WR-CALDESC:Events for Canberra Climbers&#039; Association
REFRESH-INTERVAL;VALUE=DURATION:PT1H
X-Robots-Tag:noindex
X-PUBLISHED-TTL:PT1H
BEGIN:VTIMEZONE
TZID:Australia/Sydney
BEGIN:STANDARD
TZOFFSETFROM:+1100
TZOFFSETTO:+1000
TZNAME:AEST
DTSTART:20200404T160000
END:STANDARD
BEGIN:DAYLIGHT
TZOFFSETFROM:+1000
TZOFFSETTO:+1100
TZNAME:AEDT
DTSTART:20201003T160000
END:DAYLIGHT
BEGIN:STANDARD
TZOFFSETFROM:+1100
TZOFFSETTO:+1000
TZNAME:AEST
DTSTART:20210403T160000
END:STANDARD
BEGIN:DAYLIGHT
TZOFFSETFROM:+1000
TZOFFSETTO:+1100
TZNAME:AEDT
DTSTART:20211002T160000
END:DAYLIGHT
BEGIN:STANDARD
TZOFFSETFROM:+1100
TZOFFSETTO:+1000
TZNAME:AEST
DTSTART:20220402T160000
END:STANDARD
BEGIN:DAYLIGHT
TZOFFSETFROM:+1000
TZOFFSETTO:+1100
TZNAME:AEDT
DTSTART:20221001T160000
END:DAYLIGHT
END:VTIMEZONE
BEGIN:VEVENT
DTSTART;TZID=Australia/Sydney:20211117T190000
DTEND;TZID=Australia/Sydney:20211117T213000
DTSTAMP:20260423T164253
CREATED:20210301T044559Z
LAST-MODIFIED:20211104T082810Z
UID:10000147-1637175600-1637184600@canberraclimbing.org.au
SUMMARY:CCA General Meeting (AGM) / guest speaker Rick Agnew
DESCRIPTION:Come and hear a rundown of the CCA’s recent activities plus general climbing news and points of interest. We have been busy behind the scenes\, as usual\, even throughout the recent lock-down period! This meeting will also be our AGM\, so we will include election of CCA office bearers for 2021/2022. \nThe meeting will be followed by our guest speaker presentation\, as usual. \nCCA members and non-members are welcome. \nDinner is available from The Limestone Kitchen at the Ainslie Football Club\, providing a great chance to relax and socialise with other CCA members before the AGM starts at 7.00pm. A table in the name of CCA is booked for 6pm. \nGuest speaker: Rick Agnew – 2019 K2 attempt\nCanberran alpine mountaineer\, Rick Agnew\, will talk on his pre-COVID-19 attempt of the world’s second highest mountain – K2. \nRick’s high-altitude pursuits have taken him across the world for over 40 years. He has trekked\, climbed\, guided and/or co-guided in Australia\, Africa\, north\, central and southern America\, Nepal\, Tibet\, Pakistan\, New Zealand\, Russia and Antarctica. \nRick has climbed on four 8000ers – Everest\, K2\, Manaslu and Shishapangma. He is the oldest Australian to have climbed the Seven Summits (the highest mountains on each continent). He was well on his way to completing the volcano seven summits\, and working his way towards completing a 2nd Seven Summits\, when the COVID-19 pandemic halted overseas travel (amongst other things). \nAs a true consultant\, Rick is an eloquent presenter. Come and hear Rick recount his mountaineering experiences and answer questions. \nK2 peak\, Karakoram range\, Pakistan.
URL:https://canberraclimbing.org.au/event/cca-general-meeting-2021-11-17/
LOCATION:Ainslie Football & Social Club\, 52 Wakefield Avenue\, Ainslie\, ACT\, 2602\, Australia
CATEGORIES:CCA general meetings
ATTACH;FMTTYPE=image/jpeg:https://canberraclimbing.org.au/wp-content/uploads/2021/03/Rick-Agnew-RQA-Climber.jpg
GEO:-35.2613809;149.1383606
X-APPLE-STRUCTURED-LOCATION;VALUE=URI;X-ADDRESS=Ainslie Football & Social Club 52 Wakefield Avenue Ainslie ACT 2602 Australia;X-APPLE-RADIUS=500;X-TITLE=52 Wakefield Avenue:geo:149.1383606,-35.2613809
END:VEVENT
END:VCALENDAR