BEGIN:VCALENDAR
VERSION:2.0
PRODID:-//Canberra Climbers&#039; Association - ECPv6.15.20//NONSGML v1.0//EN
CALSCALE:GREGORIAN
METHOD:PUBLISH
X-ORIGINAL-URL:https://canberraclimbing.org.au
X-WR-CALDESC:Events for Canberra Climbers&#039; Association
REFRESH-INTERVAL;VALUE=DURATION:PT1H
X-Robots-Tag:noindex
X-PUBLISHED-TTL:PT1H
BEGIN:VTIMEZONE
TZID:Australia/Sydney
BEGIN:STANDARD
TZOFFSETFROM:+1100
TZOFFSETTO:+1000
TZNAME:AEST
DTSTART:20220402T160000
END:STANDARD
BEGIN:DAYLIGHT
TZOFFSETFROM:+1000
TZOFFSETTO:+1100
TZNAME:AEDT
DTSTART:20221001T160000
END:DAYLIGHT
BEGIN:STANDARD
TZOFFSETFROM:+1100
TZOFFSETTO:+1000
TZNAME:AEST
DTSTART:20230401T160000
END:STANDARD
BEGIN:DAYLIGHT
TZOFFSETFROM:+1000
TZOFFSETTO:+1100
TZNAME:AEDT
DTSTART:20230930T160000
END:DAYLIGHT
BEGIN:STANDARD
TZOFFSETFROM:+1100
TZOFFSETTO:+1000
TZNAME:AEST
DTSTART:20240406T160000
END:STANDARD
BEGIN:DAYLIGHT
TZOFFSETFROM:+1000
TZOFFSETTO:+1100
TZNAME:AEDT
DTSTART:20241005T160000
END:DAYLIGHT
END:VTIMEZONE
BEGIN:VEVENT
DTSTART;TZID=Australia/Sydney:20230920T193000
DTEND;TZID=Australia/Sydney:20230920T213000
DTSTAMP:20260422T043004
CREATED:20230822T073003Z
LAST-MODIFIED:20230824T075748Z
UID:10000189-1695238200-1695245400@canberraclimbing.org.au
SUMMARY:CCA General Meeting / guest speaker Prof. Ken Baldwin
DESCRIPTION:Come and hear a rundown of the CCA’s recent activities plus general climbing news and points of interest\, followed by our guest speaker presentation. \nCCA members and non-members are welcome. \nDinner is available from The Limestone Kitchen at the Ainslie Football Club\, providing a great chance to relax and socialise with other CCA members before the meeting starts at 7.30pm. A table in the name of CCA is booked for 6pm. \nGuest speaker: Prof. Ken Baldwin – The 2023 Gorak Himal (Nepal) exploratory expedition and its roots in the ANUMC\nIn May this year\, with Tim Macartney-Snape and a group of friends from previous expeditions\, we explored the remote valleys and high passes of far NW Nepal in the Gorak Himal. With an eye for the many unclimbed 6-7\,000m peaks in that part of the Himalaya\, we traversed regions that had not been travelled by other expeditions\, passing only small hamlets with summer yak and goat herders over the three weeks. \nThe presentation will put this expedition in the context of other expeditions that arose out of the ground-breaking 1978 ANU Mountaineering Club Himalayan Expedition to Dunagiri\, and discuss rekindling the links between the CCA and the ANUMC. \nKen Baldwin is an Emeritus Professor at ANU whose main focus is on advancing the energy transition\, particularly for Australia’s export future in the region. A brief summary of his ANUMC connections are as follows: \n\n1974-1977 ANUMC undergraduate member\n1978 Secretary and member\, ANUMC Himalayan Expedition to Dunagiri (7\,066m)\, India\n1980’s ANUMC committee member and President – upgraded old ANU Sport brick climbing wall to include rock holds and cracks\n1988 Member\, Australian Baruntse Expedition (7\,128m)\, Nepal\n1990 ANUMC host and international judge for the Oceania Cup – the first climbing competition between Australia and New Zealand\n1991 Built new ANUMC climbing wall with interchangeable holds and overhanging routes\n2010 Member\, Yangma Expedition\, Nepal\n2023 Member\, exploratory expedition to Gorak Himal\, Nepal\n\nKen Baldwin in the Gorak Himal\, far NW Nepal
URL:https://canberraclimbing.org.au/event/cca-general-meeting-2023-09-20/
LOCATION:Ainslie Football & Social Club\, 52 Wakefield Avenue\, Ainslie\, ACT\, 2602\, Australia
CATEGORIES:CCA general meetings
ATTACH;FMTTYPE=image/jpeg:https://canberraclimbing.org.au/wp-content/uploads/2023/08/Gorak-Himal.jpg
ORGANIZER;CN="Zac Zaharias":MAILTO:zaharias@iinet.net.au
GEO:-35.2613809;149.1383606
X-APPLE-STRUCTURED-LOCATION;VALUE=URI;X-ADDRESS=Ainslie Football & Social Club 52 Wakefield Avenue Ainslie ACT 2602 Australia;X-APPLE-RADIUS=500;X-TITLE=52 Wakefield Avenue:geo:149.1383606,-35.2613809
END:VEVENT
END:VCALENDAR