BEGIN:VCALENDAR
VERSION:2.0
PRODID:-//Canberra Climbers&#039; Association - ECPv6.15.20//NONSGML v1.0//EN
CALSCALE:GREGORIAN
METHOD:PUBLISH
X-ORIGINAL-URL:https://canberraclimbing.org.au
X-WR-CALDESC:Events for Canberra Climbers&#039; Association
REFRESH-INTERVAL;VALUE=DURATION:PT1H
X-Robots-Tag:noindex
X-PUBLISHED-TTL:PT1H
BEGIN:VTIMEZONE
TZID:Australia/Sydney
BEGIN:STANDARD
TZOFFSETFROM:+1100
TZOFFSETTO:+1000
TZNAME:AEST
DTSTART:20220402T160000
END:STANDARD
BEGIN:DAYLIGHT
TZOFFSETFROM:+1000
TZOFFSETTO:+1100
TZNAME:AEDT
DTSTART:20221001T160000
END:DAYLIGHT
BEGIN:STANDARD
TZOFFSETFROM:+1100
TZOFFSETTO:+1000
TZNAME:AEST
DTSTART:20230401T160000
END:STANDARD
BEGIN:DAYLIGHT
TZOFFSETFROM:+1000
TZOFFSETTO:+1100
TZNAME:AEDT
DTSTART:20230930T160000
END:DAYLIGHT
BEGIN:STANDARD
TZOFFSETFROM:+1100
TZOFFSETTO:+1000
TZNAME:AEST
DTSTART:20240406T160000
END:STANDARD
BEGIN:DAYLIGHT
TZOFFSETFROM:+1000
TZOFFSETTO:+1100
TZNAME:AEDT
DTSTART:20241005T160000
END:DAYLIGHT
END:VTIMEZONE
BEGIN:VEVENT
DTSTART;TZID=Australia/Sydney:20231115T193000
DTEND;TZID=Australia/Sydney:20231115T213000
DTSTAMP:20260422T005855
CREATED:20230824T075406Z
LAST-MODIFIED:20231024T064109Z
UID:10000190-1700076600-1700083800@canberraclimbing.org.au
SUMMARY:CCA General Meeting (AGM) / guest speaker Armando Corvini
DESCRIPTION:This meeting will be our AGM\, so we will include election of CCA office bearers for 2023/2024 and a rundown of the CCA’s recent activities plus general climbing news and points of interest. The meeting will be followed by our guest speaker presentation\, as usual. \nCCA members and non-members are welcome. \nDinner is available from The Limestone Kitchen at the Ainslie Football Club\, providing a great chance to relax and socialise with other CCA members before the AGM starts at 7.30pm. A table in the name of CCA is booked for 6pm. \n  \nGuest speaker: Armando Corvini\nMy life as a mountaineer: From Val Rosandra to the Himalayas and in between\nLong-time CCA member\, Armando Corvini\, will share his passion for\, and dedication to\, climbing and mountaineering over his life\, since his teens climbing the limestone crags of Val Rosandra\, in Northern Italy. He will include highlights from his extraordinary experiences\, ranging from exhilarating highs to dispiriting near-death experience on the Hiamlayas.
URL:https://canberraclimbing.org.au/event/cca-annual-general-meeting-2023/
LOCATION:Ainslie Football & Social Club\, 52 Wakefield Avenue\, Ainslie\, ACT\, 2602\, Australia
CATEGORIES:CCA general meetings
ATTACH;FMTTYPE=image/jpeg:https://canberraclimbing.org.au/wp-content/uploads/2023/08/Val-Rosandra.jpg
ORGANIZER;CN="Zac Zaharias":MAILTO:zaharias@iinet.net.au
GEO:-35.2613809;149.1383606
X-APPLE-STRUCTURED-LOCATION;VALUE=URI;X-ADDRESS=Ainslie Football & Social Club 52 Wakefield Avenue Ainslie ACT 2602 Australia;X-APPLE-RADIUS=500;X-TITLE=52 Wakefield Avenue:geo:149.1383606,-35.2613809
END:VEVENT
END:VCALENDAR