BEGIN:VCALENDAR
VERSION:2.0
PRODID:-//Canberra Climbers&#039; Association - ECPv6.15.20//NONSGML v1.0//EN
CALSCALE:GREGORIAN
METHOD:PUBLISH
X-WR-CALNAME:Canberra Climbers&#039; Association
X-ORIGINAL-URL:https://canberraclimbing.org.au
X-WR-CALDESC:Events for Canberra Climbers&#039; Association
REFRESH-INTERVAL;VALUE=DURATION:PT1H
X-Robots-Tag:noindex
X-PUBLISHED-TTL:PT1H
BEGIN:VTIMEZONE
TZID:Australia/Sydney
BEGIN:STANDARD
TZOFFSETFROM:+1100
TZOFFSETTO:+1000
TZNAME:AEST
DTSTART:20230401T160000
END:STANDARD
BEGIN:DAYLIGHT
TZOFFSETFROM:+1000
TZOFFSETTO:+1100
TZNAME:AEDT
DTSTART:20230930T160000
END:DAYLIGHT
BEGIN:STANDARD
TZOFFSETFROM:+1100
TZOFFSETTO:+1000
TZNAME:AEST
DTSTART:20240406T160000
END:STANDARD
BEGIN:DAYLIGHT
TZOFFSETFROM:+1000
TZOFFSETTO:+1100
TZNAME:AEDT
DTSTART:20241005T160000
END:DAYLIGHT
BEGIN:STANDARD
TZOFFSETFROM:+1100
TZOFFSETTO:+1000
TZNAME:AEST
DTSTART:20250405T160000
END:STANDARD
BEGIN:DAYLIGHT
TZOFFSETFROM:+1000
TZOFFSETTO:+1100
TZNAME:AEDT
DTSTART:20251004T160000
END:DAYLIGHT
END:VTIMEZONE
BEGIN:VEVENT
DTSTART;VALUE=DATE:20240414
DTEND;VALUE=DATE:20240415
DTSTAMP:20260423T051902
CREATED:20240220T231357Z
LAST-MODIFIED:20240224T012335Z
UID:10000349-1713052800-1713139199@canberraclimbing.org.au
SUMMARY:Introductory Climbing Day – White Rocks (Wickerslack crag)
DESCRIPTION:This introductory climbing day\, to be held at White Rocks (Wickerslack crag) in Queanbeyan\, is an opportunity for indoor climbers and new CCA members to experience some fun and easy top-roped climbs on limestone. \n \nParticipation\nCurrent CCA members of any experience are welcome. The focus for the day is to provide an informative atmosphere. For new CCA members\, the day is an opportunity to learn basic climbing\, rope and cliff skills at the best introductory crag in the region. \nThis event is for current CCA members only. You cannot join CCA on the day of the event (* see note about CCA membership below). \nThe day will be hosted by the CCA Vice President\, Brian Mattick\, and coordinated by CCA member\, Phil Thomas. If you are interested in attending\, or have any questions about the event\, please contact Phil at eveningstarsystems1@hotmail.com. \n(* Note about CCA membership: you can only join CCA via our website\, and it takes about a month to receive your member’s card after you submit the membership application form on-line and pay the membership fee) \nWhat to bring\nIf you have your own climbing gear (climbing rope\, a few slings\, carabiners and a belay device)\, please bring it.  If you are new to climbing and have only a harness and helmet\, please let Phil know this when you register your intention to attend. We may have to limit numbers because of gear limitations. \nYou will also need to bring your own food\, water and sunscreen for the day. \nMeeting time and location\nMeet at the car park in Wickerslack Lane\, about 450m from the Old Cooma Rd intersection\, at 10am. \nClimbing routes\nWickerslack Grag climbing guide \nWhite Rocks Climbing Day homework!\nThe homework is intended to familiarise new climbers with some adventure climbing practices that are not necessarily learned in gym climbing. \nWhite Rocks Climbing Day homework sheet (PDF 2MB)
URL:https://canberraclimbing.org.au/event/introductory-climbing-day-white-rocks-wickerslack-crag-2024-04/
LOCATION:White Rocks\, White Rocks\, Karabar\, NSW\, 2620\, Australia
CATEGORIES:CCA outdoor climbing days
ATTACH;FMTTYPE=image/jpeg:https://canberraclimbing.org.au/wp-content/uploads/2022/06/33-White-Rocks-by-the-Queanbeyan-River.jpg
ORGANIZER;CN="Phil Thomas":MAILTO:eveningstarsystems1@hotmail.com
GEO:-35.3815757;149.2476368
X-APPLE-STRUCTURED-LOCATION;VALUE=URI;X-ADDRESS=White Rocks White Rocks Karabar NSW 2620 Australia;X-APPLE-RADIUS=500;X-TITLE=White Rocks:geo:149.2476368,-35.3815757
END:VEVENT
END:VCALENDAR