BEGIN:VCALENDAR
VERSION:2.0
PRODID:-//Canberra Climbers&#039; Association - ECPv6.15.20//NONSGML v1.0//EN
CALSCALE:GREGORIAN
METHOD:PUBLISH
X-ORIGINAL-URL:https://canberraclimbing.org.au
X-WR-CALDESC:Events for Canberra Climbers&#039; Association
REFRESH-INTERVAL;VALUE=DURATION:PT1H
X-Robots-Tag:noindex
X-PUBLISHED-TTL:PT1H
BEGIN:VTIMEZONE
TZID:Australia/Sydney
BEGIN:STANDARD
TZOFFSETFROM:+1100
TZOFFSETTO:+1000
TZNAME:AEST
DTSTART:20200404T160000
END:STANDARD
BEGIN:DAYLIGHT
TZOFFSETFROM:+1000
TZOFFSETTO:+1100
TZNAME:AEDT
DTSTART:20201003T160000
END:DAYLIGHT
BEGIN:STANDARD
TZOFFSETFROM:+1100
TZOFFSETTO:+1000
TZNAME:AEST
DTSTART:20210403T160000
END:STANDARD
BEGIN:DAYLIGHT
TZOFFSETFROM:+1000
TZOFFSETTO:+1100
TZNAME:AEDT
DTSTART:20211002T160000
END:DAYLIGHT
BEGIN:STANDARD
TZOFFSETFROM:+1100
TZOFFSETTO:+1000
TZNAME:AEST
DTSTART:20220402T160000
END:STANDARD
BEGIN:DAYLIGHT
TZOFFSETFROM:+1000
TZOFFSETTO:+1100
TZNAME:AEDT
DTSTART:20221001T160000
END:DAYLIGHT
END:VTIMEZONE
BEGIN:VEVENT
DTSTART;VALUE=DATE:20210402
DTEND;VALUE=DATE:20210405
DTSTAMP:20260425T213106
CREATED:20201221T225531Z
LAST-MODIFIED:20210315T230913Z
UID:10000143-1617321600-1617580799@canberraclimbing.org.au
SUMMARY:Blue Lake climbing weekend 2021
DESCRIPTION:Blue Lake in Kosciuszko National Park\, NSW\, is a rare and beautiful cirque lake which has some of the clearest waters of any Australian lake. Granite cliffs of up to 55m overlook the west side of Blue Lake\, providing some wonderful traditional climbing and the only alpine climbing area in Australia. \nCCA holds this climbing weekend annually. It is open to all CCA members and to non-members who join CCA ($20 for one year or $50 for three years) at the beginning of the weekend. All participants will also need to sign a CCA Activity Waiver (PDF 538KB) before the weekend. \nIf you are interested in attending\, please register with the event coordinator\, Zac Zaharias (details below). He will then send you details including the camping location and possible car pooling options. \nPlease note: \n\nthis is a climbing camp and we don’t provide instruction; we expect everybody to be self-sufficient climbers and campers. However\, for those that are a little rusty\, there are opportunities to tie in to the other end of the rope and follow up on some of the easy single-pitch classics on Elephant Buttress.\nyou will need to walk 4 km with your climbing and camping gear\, from the car park at Charlotte Pass to where we camp above the tree line. Day climbing is also possible by doing the 4 km treck from the car park to the cliffs with just your climbing gear.\n\nBlue Lake image gallery  Blue Lake climbing guide \nBlue Lake
URL:https://canberraclimbing.org.au/event/blue-lake-climbing-weekend-2021/
LOCATION:Blue Lake\, Blue Lake Kosciuszko National Park\, NSW\, Australia
CATEGORIES:CCA outdoor climbing days
ATTACH;FMTTYPE=image/jpeg:https://canberraclimbing.org.au/wp-content/uploads/2018/12/blue-lake-11.jpg
ORGANIZER;CN="Zac Zaharias":MAILTO:zaharias@iinet.net.au
GEO:-36.4043142;148.3153717
X-APPLE-STRUCTURED-LOCATION;VALUE=URI;X-ADDRESS=Blue Lake Blue Lake Kosciuszko National Park NSW Australia;X-APPLE-RADIUS=500;X-TITLE=Blue Lake Kosciuszko National Park:geo:148.3153717,-36.4043142
END:VEVENT
END:VCALENDAR