BEGIN:VCALENDAR
VERSION:2.0
PRODID:-//Canberra Climbers&#039; Association - ECPv6.15.20//NONSGML v1.0//EN
CALSCALE:GREGORIAN
METHOD:PUBLISH
X-WR-CALNAME:Canberra Climbers&#039; Association
X-ORIGINAL-URL:https://canberraclimbing.org.au
X-WR-CALDESC:Events for Canberra Climbers&#039; Association
REFRESH-INTERVAL;VALUE=DURATION:PT1H
X-Robots-Tag:noindex
X-PUBLISHED-TTL:PT1H
BEGIN:VTIMEZONE
TZID:Australia/Sydney
BEGIN:STANDARD
TZOFFSETFROM:+1100
TZOFFSETTO:+1000
TZNAME:AEST
DTSTART:20220402T160000
END:STANDARD
BEGIN:DAYLIGHT
TZOFFSETFROM:+1000
TZOFFSETTO:+1100
TZNAME:AEDT
DTSTART:20221001T160000
END:DAYLIGHT
BEGIN:STANDARD
TZOFFSETFROM:+1100
TZOFFSETTO:+1000
TZNAME:AEST
DTSTART:20230401T160000
END:STANDARD
BEGIN:DAYLIGHT
TZOFFSETFROM:+1000
TZOFFSETTO:+1100
TZNAME:AEDT
DTSTART:20230930T160000
END:DAYLIGHT
BEGIN:STANDARD
TZOFFSETFROM:+1100
TZOFFSETTO:+1000
TZNAME:AEST
DTSTART:20240406T160000
END:STANDARD
BEGIN:DAYLIGHT
TZOFFSETFROM:+1000
TZOFFSETTO:+1100
TZNAME:AEDT
DTSTART:20241005T160000
END:DAYLIGHT
END:VTIMEZONE
BEGIN:VEVENT
DTSTART;VALUE=DATE:20230423
DTEND;VALUE=DATE:20230424
DTSTAMP:20260424T043128
CREATED:20230303T082832Z
LAST-MODIFIED:20230303T082832Z
UID:10000220-1682208000-1682294399@canberraclimbing.org.au
SUMMARY:Introductory Climbing Day - White Rocks (Wickerslack Crag)
DESCRIPTION:This introductory climbing day\, to be held at White Rocks (Wickerslack Crag) in Queanbeyan\, is an opportunity for indoor climbers and new CCA members to experience the joys of outdoor\, top-roped climbing. \nParticipants of any experience are welcome\, and the focus for the day is to provide an informative atmosphere. \nYou will need to join CCA on the day if you are not a member ($20 for one year or $50 for three years)\, and all participants will need to sign the CCA Activity Waiver (PDF 538KB) before attending. \nThe day will be hosted by the CCA Vice President\, Brian Mattick\, and coordinated by CCA member\, Phil Thomas. If you are interested in attending\, please register with Phil at eveningstarsystems1@hotmail.com
URL:https://canberraclimbing.org.au/event/introductory-climbing-day-white-rocks-wickerslack-crag-2023-04/
LOCATION:White Rocks\, White Rocks\, Karabar\, NSW\, 2620\, Australia
CATEGORIES:CCA outdoor climbing days
ATTACH;FMTTYPE=image/jpeg:https://canberraclimbing.org.au/wp-content/uploads/2022/06/33-White-Rocks-by-the-Queanbeyan-River.jpg
ORGANIZER;CN="Phil Thomas":MAILTO:eveningstarsystems1@hotmail.com
GEO:-35.3815757;149.2476368
X-APPLE-STRUCTURED-LOCATION;VALUE=URI;X-ADDRESS=White Rocks White Rocks Karabar NSW 2620 Australia;X-APPLE-RADIUS=500;X-TITLE=White Rocks:geo:149.2476368,-35.3815757
END:VEVENT
END:VCALENDAR