BEGIN:VCALENDAR
VERSION:2.0
PRODID:-//Canberra Climbers&#039; Association - ECPv6.15.20//NONSGML v1.0//EN
CALSCALE:GREGORIAN
METHOD:PUBLISH
X-WR-CALNAME:Canberra Climbers&#039; Association
X-ORIGINAL-URL:https://canberraclimbing.org.au
X-WR-CALDESC:Events for Canberra Climbers&#039; Association
REFRESH-INTERVAL;VALUE=DURATION:PT1H
X-Robots-Tag:noindex
X-PUBLISHED-TTL:PT1H
BEGIN:VTIMEZONE
TZID:Australia/Sydney
BEGIN:STANDARD
TZOFFSETFROM:+1100
TZOFFSETTO:+1000
TZNAME:AEST
DTSTART:20230401T160000
END:STANDARD
BEGIN:DAYLIGHT
TZOFFSETFROM:+1000
TZOFFSETTO:+1100
TZNAME:AEDT
DTSTART:20230930T160000
END:DAYLIGHT
BEGIN:STANDARD
TZOFFSETFROM:+1100
TZOFFSETTO:+1000
TZNAME:AEST
DTSTART:20240406T160000
END:STANDARD
BEGIN:DAYLIGHT
TZOFFSETFROM:+1000
TZOFFSETTO:+1100
TZNAME:AEDT
DTSTART:20241005T160000
END:DAYLIGHT
BEGIN:STANDARD
TZOFFSETFROM:+1100
TZOFFSETTO:+1000
TZNAME:AEST
DTSTART:20250405T160000
END:STANDARD
BEGIN:DAYLIGHT
TZOFFSETFROM:+1000
TZOFFSETTO:+1100
TZNAME:AEDT
DTSTART:20251004T160000
END:DAYLIGHT
END:VTIMEZONE
BEGIN:VEVENT
DTSTART;VALUE=DATE:20240504
DTEND;VALUE=DATE:20240505
DTSTAMP:20260423T053207
CREATED:20240221T005414Z
LAST-MODIFIED:20240407T095506Z
UID:10000350-1714780800-1714867199@canberraclimbing.org.au
SUMMARY:Climbing Day – The Cloisters\, Orroral Ridge
DESCRIPTION:The Cloisters is a jumble of granite boulders on the Orroral Ridge\, in Namadji National Park\, ACT.  There are good climbs at all grades (see descriptions below)\, and most of the day’s activities will take place around The Hello Boulder and Simple Simon Slabs\, where there are some excellent\, moderately-graded crack and wall/slab climbs. \nParticipation\nThis event is for current CCA members only. You cannot join CCA on the day of the event. \nNote about CCA membership: you can only join CCA via our website\, and it takes about a month to receive your member’s card after you submit the membership application form on-line and pay the membership fee. \nWhat to bring\nYou will need to bring your personal climbing gear (climbing shoes\, chalk bag\, harness and helmet) plus food\, water and sunscreen for the day. \nMeeting time and location\nMeet at the car park on the Orroral Ridge at 9am (see map at the bottom of this page). To get to the car park\, drive up Apollo Road to the Honeysuckle Creek Tracking Station then turn onto the gravel road near the shelter/toilets and follow this to the end\, about 4 km uphill. \nClimbing routes\nthecrag.com describes The Cloisters as having “a wide range of grades and styles on boulders nestled among the trees” and lists 68 individual routes. \nThe Hello Boulder (15m boulder with 8 trad climbing routes\, grades 9 – 23)
URL:https://canberraclimbing.org.au/event/climbing-day-at-the-cloisters-orroral-ridge/
LOCATION:Orroral Ridge\, Orroral Ridge\, ACT\, Australia
CATEGORIES:CCA outdoor climbing days
ATTACH;FMTTYPE=image/jpeg:https://canberraclimbing.org.au/wp-content/uploads/2019/09/orroral-ridge-boulders.jpg
GEO:-35.603253;148.95197
X-APPLE-STRUCTURED-LOCATION;VALUE=URI;X-ADDRESS=Orroral Ridge Orroral Ridge ACT Australia;X-APPLE-RADIUS=500;X-TITLE=Orroral Ridge:geo:148.95197,-35.603253
END:VEVENT
END:VCALENDAR