BEGIN:VCALENDAR
VERSION:2.0
PRODID:-//Canberra Climbers&#039; Association - ECPv6.15.20//NONSGML v1.0//EN
CALSCALE:GREGORIAN
METHOD:PUBLISH
X-WR-CALNAME:Canberra Climbers&#039; Association
X-ORIGINAL-URL:https://canberraclimbing.org.au
X-WR-CALDESC:Events for Canberra Climbers&#039; Association
REFRESH-INTERVAL;VALUE=DURATION:PT1H
X-Robots-Tag:noindex
X-PUBLISHED-TTL:PT1H
BEGIN:VTIMEZONE
TZID:Australia/Sydney
BEGIN:STANDARD
TZOFFSETFROM:+1100
TZOFFSETTO:+1000
TZNAME:AEST
DTSTART:20230401T160000
END:STANDARD
BEGIN:DAYLIGHT
TZOFFSETFROM:+1000
TZOFFSETTO:+1100
TZNAME:AEDT
DTSTART:20230930T160000
END:DAYLIGHT
BEGIN:STANDARD
TZOFFSETFROM:+1100
TZOFFSETTO:+1000
TZNAME:AEST
DTSTART:20240406T160000
END:STANDARD
BEGIN:DAYLIGHT
TZOFFSETFROM:+1000
TZOFFSETTO:+1100
TZNAME:AEDT
DTSTART:20241005T160000
END:DAYLIGHT
BEGIN:STANDARD
TZOFFSETFROM:+1100
TZOFFSETTO:+1000
TZNAME:AEST
DTSTART:20250405T160000
END:STANDARD
BEGIN:DAYLIGHT
TZOFFSETFROM:+1000
TZOFFSETTO:+1100
TZNAME:AEDT
DTSTART:20251004T160000
END:DAYLIGHT
END:VTIMEZONE
BEGIN:VEVENT
DTSTART;VALUE=DATE:20240622
DTEND;VALUE=DATE:20240624
DTSTAMP:20260423T034920
CREATED:20240611T102520Z
LAST-MODIFIED:20240611T102735Z
UID:10000368-1719014400-1719187199@canberraclimbing.org.au
SUMMARY:Winter Solstice 2024 at Honeysuckle Creek
DESCRIPTION:The Winter Solstice weekend CCA camp-out at Honeysuckle Creek is becoming an annual tradition! \nSpend the weekend climbing at Booroomba Rocks\, Honeysuckle Crag or on the Orroral Ridge (the Orroral Ridge Road is open again – yaaayyyy!!!) and join other climbers at Honeysuckle Creek Camp Ground on Saturday night. \nThis is a great chance to meet other climbers\, have a few drinks and tell a few unbelievable yarns around a roaring campfire. \nClimbing\nYou will need to have a climbing partner to go climbing on this weekend. \nThe weekend is not an introductory activity for novice climbers\, and there will be NO GUIDED CLIMBING for this event. If you cannot arrange a leader\, you are welcome to still come along for the camp out. \nCamping\nThe CCA will pay camping fees at Honeysuckle Creek Camp Ground\, and we will provide wood for the campfire.  We need to know participant numbers to register with ACT Parks and pay the camping fee\, so please let the organisers know if you are coming to camp overnight (see RSVP details below). \nHoneysuckle Creek Camp Ground has water\, toilets\, fireplaces\, picnic tables and chairs.  There is no electricity.  You will need to provide everything else\, including: \n\nWarm clothes\, beanie\, gloves etc. in many layers. It will be cold overnight!\nDinner and breakfast\, including food\, cooking utensils\, stove\, plates and bowls\, cup etc.\nTent\, sleeping bag\, sleeping mat\, torches (it is the longest night of the year\, after all)\, a folding chair and any other creature comforts you feel are necessary.\n\nWe will be camping about 30-70m from the car park. \nFor more information about the campsite\, visit Honeysuckle Campground – Parks ACT. \nRegistration and further information\nFor more information\, to register for Saturday night camping\, or to volunteer to help out\, please contact the organiser detailed below. \nHoneysuckle campground in winter
URL:https://canberraclimbing.org.au/event/winter-solstice-at-honeysuckle-creek-2024/
LOCATION:Honeysuckle Creek Camp Ground\, 244 Apollo Rd\, Rendezvous Creek\, ACT\, 2620\, Australia
CATEGORIES:CCA outdoor climbing days
ATTACH;FMTTYPE=image/jpeg:https://canberraclimbing.org.au/wp-content/uploads/2023/05/Honeysuckle-Crag.jpg
ORGANIZER;CN="Phil Thomas":MAILTO:eveningstarsystems1@hotmail.com
GEO:-35.583064;148.9751493
X-APPLE-STRUCTURED-LOCATION;VALUE=URI;X-ADDRESS=Honeysuckle Creek Camp Ground 244 Apollo Rd Rendezvous Creek ACT 2620 Australia;X-APPLE-RADIUS=500;X-TITLE=244 Apollo Rd:geo:148.9751493,-35.583064
END:VEVENT
END:VCALENDAR