BEGIN:VCALENDAR
VERSION:2.0
PRODID:-//Canberra Climbers&#039; Association - ECPv6.15.20//NONSGML v1.0//EN
CALSCALE:GREGORIAN
METHOD:PUBLISH
X-ORIGINAL-URL:https://canberraclimbing.org.au
X-WR-CALDESC:Events for Canberra Climbers&#039; Association
REFRESH-INTERVAL;VALUE=DURATION:PT1H
X-Robots-Tag:noindex
X-PUBLISHED-TTL:PT1H
BEGIN:VTIMEZONE
TZID:Australia/Sydney
BEGIN:STANDARD
TZOFFSETFROM:+1100
TZOFFSETTO:+1000
TZNAME:AEST
DTSTART:20150404T160000
END:STANDARD
BEGIN:DAYLIGHT
TZOFFSETFROM:+1000
TZOFFSETTO:+1100
TZNAME:AEDT
DTSTART:20151003T160000
END:DAYLIGHT
BEGIN:STANDARD
TZOFFSETFROM:+1100
TZOFFSETTO:+1000
TZNAME:AEST
DTSTART:20160402T160000
END:STANDARD
BEGIN:DAYLIGHT
TZOFFSETFROM:+1000
TZOFFSETTO:+1100
TZNAME:AEDT
DTSTART:20161001T160000
END:DAYLIGHT
BEGIN:STANDARD
TZOFFSETFROM:+1100
TZOFFSETTO:+1000
TZNAME:AEST
DTSTART:20170401T160000
END:STANDARD
BEGIN:DAYLIGHT
TZOFFSETFROM:+1000
TZOFFSETTO:+1100
TZNAME:AEDT
DTSTART:20170930T160000
END:DAYLIGHT
END:VTIMEZONE
BEGIN:VEVENT
DTSTART;TZID=Australia/Sydney:20160921T194500
DTEND;TZID=Australia/Sydney:20160921T213000
DTSTAMP:20260421T142615
CREATED:20160804T054633Z
LAST-MODIFIED:20191016T104619Z
UID:10000094-1474487100-1474493400@canberraclimbing.org.au
SUMMARY:CCA General Meeting (AGM) / Keith Bell & Jim Smith guest speakers
DESCRIPTION:Come and hear a rundown of the CCA’s recent activities plus general climbing news and points of interest\, followed by our guest speaker presentation. \nCCA members and non-members are welcome. \nGuest speakers: Keith Bell & Jim Smith\nKeith Bell and Jim Smith will be talking about their historic climb of Balls Pyramid in the 1960s and 1970s\, and presenting their new book “South Pacific Pinnacle – The Exploration of Balls Pyramid”. \nSouth Pacific Pinnacle: The Exploration of Balls Pyramid\n300 page hardcover book with many photos\, edited by Jim Smith and Keith Bell (Den Fenella Press\, $50 incl. postage within Australia)
URL:https://canberraclimbing.org.au/event/cca-general-meeting-agm-keith-bell-jim-smith-guest-speakers/
LOCATION:Room HB3\, Hedley Bull Centre\, The Australian National University\, Fellows Road\, Acton\, ACT\, 2601
CATEGORIES:CCA general meetings
ATTACH;FMTTYPE=image/jpeg:https://canberraclimbing.org.au/wp-content/uploads/2016/08/Balls-Pyramid.jpg
GEO:-35.2811091;149.11942
X-APPLE-STRUCTURED-LOCATION;VALUE=URI;X-ADDRESS=Room HB3 Hedley Bull Centre The Australian National University Fellows Road Acton ACT 2601;X-APPLE-RADIUS=500;X-TITLE=Fellows Road:geo:149.11942,-35.2811091
END:VEVENT
END:VCALENDAR