BEGIN:VCALENDAR
VERSION:2.0
PRODID:-//Canberra Climbers&#039; Association - ECPv6.15.20//NONSGML v1.0//EN
CALSCALE:GREGORIAN
METHOD:PUBLISH
X-WR-CALNAME:Canberra Climbers&#039; Association
X-ORIGINAL-URL:https://canberraclimbing.org.au
X-WR-CALDESC:Events for Canberra Climbers&#039; Association
REFRESH-INTERVAL;VALUE=DURATION:PT1H
X-Robots-Tag:noindex
X-PUBLISHED-TTL:PT1H
BEGIN:VTIMEZONE
TZID:Australia/Sydney
BEGIN:STANDARD
TZOFFSETFROM:+1100
TZOFFSETTO:+1000
TZNAME:AEST
DTSTART:20160402T160000
END:STANDARD
BEGIN:DAYLIGHT
TZOFFSETFROM:+1000
TZOFFSETTO:+1100
TZNAME:AEDT
DTSTART:20161001T160000
END:DAYLIGHT
BEGIN:STANDARD
TZOFFSETFROM:+1100
TZOFFSETTO:+1000
TZNAME:AEST
DTSTART:20170401T160000
END:STANDARD
BEGIN:DAYLIGHT
TZOFFSETFROM:+1000
TZOFFSETTO:+1100
TZNAME:AEDT
DTSTART:20170930T160000
END:DAYLIGHT
BEGIN:STANDARD
TZOFFSETFROM:+1100
TZOFFSETTO:+1000
TZNAME:AEST
DTSTART:20180331T160000
END:STANDARD
BEGIN:DAYLIGHT
TZOFFSETFROM:+1000
TZOFFSETTO:+1100
TZNAME:AEDT
DTSTART:20181006T160000
END:DAYLIGHT
BEGIN:STANDARD
TZOFFSETFROM:+1100
TZOFFSETTO:+1000
TZNAME:AEST
DTSTART:20190406T160000
END:STANDARD
BEGIN:DAYLIGHT
TZOFFSETFROM:+1000
TZOFFSETTO:+1100
TZNAME:AEDT
DTSTART:20191005T160000
END:DAYLIGHT
END:VTIMEZONE
BEGIN:VEVENT
DTSTART;TZID=Australia/Sydney:20180923T090000
DTEND;TZID=Australia/Sydney:20180923T160000
DTSTAMP:20260421T185611
CREATED:20180819T092236Z
LAST-MODIFIED:20191016T104556Z
UID:10000118-1537693200-1537718400@canberraclimbing.org.au
SUMMARY:Introductory Climbing Day – Booroomba Rocks
DESCRIPTION:Our popular introductory climbing day at Booroomba Rocks\, Namadgi National Park\, is a great way for newer CCA members who are first-time climbers at Booroomba to enjoy the delights of the classic trad climbs at the Booroomba crag. It is also a great opportunity for indoor climbers to experience the joys of outdoor and trad climbing. \nYou will be led up a selection of classic Booroomba crag routes (grades will depend on climbers) by experienced CCA members. Participants of any experience are welcome; the numbers who can participate will depend on how many CCA leaders we have. We aim for a ratio of one leader/guide for a maximum of two participants\, so it’s first in – best dressed!! \nYou will need to join CCA on the day if you are not a member ($20 for one year or $50 for three years)\, and all participants will need to sign the CCA Activity Waiver (PDF 75KB) before attending. \nPlease register your interest with the coordinator\, Zac Zaharias (see details below). \nWe will meet at the Booroomba Rocks car park at 9am for introductions and to organise climbing parties. \nBooroomba Rocks image gallery   Booroomba Rocks climbing guide \nBooroomba Rocks – North Buttress
URL:https://canberraclimbing.org.au/event/cca-introductory-climbing-day-booroomba-rocks-3/
LOCATION:Booroomba Rocks\, Booroomba Rocks\, Namadgi National Park\, ACT\, Australia
CATEGORIES:CCA outdoor climbing days
ATTACH;FMTTYPE=image/jpeg:https://canberraclimbing.org.au/wp-content/uploads/2016/09/booroomba.jpg
ORGANIZER;CN="Zac Zaharias":MAILTO:zaharias@iinet.net.au
GEO:-35.557091;148.9921012
X-APPLE-STRUCTURED-LOCATION;VALUE=URI;X-ADDRESS=Booroomba Rocks Booroomba Rocks Namadgi National Park ACT Australia;X-APPLE-RADIUS=500;X-TITLE=Booroomba Rocks\, Namadgi National Park:geo:148.9921012,-35.557091
END:VEVENT
BEGIN:VEVENT
DTSTART;VALUE=DATE:20180317
DTEND;VALUE=DATE:20180318
DTSTAMP:20260421T185611
CREATED:20180308T042822Z
LAST-MODIFIED:20191016T104618Z
UID:10000114-1521244800-1521331199@canberraclimbing.org.au
SUMMARY:CCA Introductory Climbing Day – Booroomba Rocks
DESCRIPTION:Our annual introductory climbing day at Booroomba Rocks\, in Namadgi National Park\, is a great way for newer CCA members to enjoy the delights of the classic trad climbs at the Booroomba crag. It is also a great opportunity for indoor climbers to experience the joys of outdoor and trad climbing. \nAll participants are welcome; the numbers who can participate will depend on how many leaders we have. We normally have a ratio of one leader/guide for a maximum of two participants\, so it will be “first in – best dressed”!! \nYou will need to join CCA on the day if you are not a member ($20 for one year or $50 for three years)\, and all participants will need to sign the CCA Activity Waiver (PDF 75KB) before attending. \nPlease register your interest with the coordinator\, Zac Zaharias (see details below). \nBooroomba Rocks image gallery   Booroomba Rocks climbing guide \nBooroomba Rocks – North Buttress \n 
URL:https://canberraclimbing.org.au/event/cca-introductory-climbing-day-booroomba-rocks-2/
LOCATION:Booroomba Rocks\, Booroomba Rocks\, Namadgi National Park\, ACT\, Australia
CATEGORIES:CCA outdoor climbing days
ATTACH;FMTTYPE=image/jpeg:https://canberraclimbing.org.au/wp-content/uploads/2016/09/possum.jpg
ORGANIZER;CN="Zac Zaharias":MAILTO:zaharias@iinet.net.au
GEO:-35.557091;148.9921012
X-APPLE-STRUCTURED-LOCATION;VALUE=URI;X-ADDRESS=Booroomba Rocks Booroomba Rocks Namadgi National Park ACT Australia;X-APPLE-RADIUS=500;X-TITLE=Booroomba Rocks\, Namadgi National Park:geo:148.9921012,-35.557091
END:VEVENT
BEGIN:VEVENT
DTSTART;VALUE=DATE:20180302
DTEND;VALUE=DATE:20180305
DTSTAMP:20260421T185611
CREATED:20180108T051223Z
LAST-MODIFIED:20200130T023610Z
UID:10000103-1519948800-1520207999@canberraclimbing.org.au
SUMMARY:Blue Lake climbing weekend 2018
DESCRIPTION:Blue Lake in Kosciuszko National Park\, NSW\, is a rare and beautiful cirque lake which has some of the clearest waters of any Australian lake. Granite cliffs of up to 55m overlook the west side of Blue Lake\, providing some wonderful traditional climbing and the only alpine climbing area in Australia. \nCCA holds this annual climbing weekend\, which is open to all CCA members and to non-members who join CCA ($20 for one year or $50 for three years) at the beginning of the weekend. All participants will also need to sign a CCA Activity Waiver (PDF 75KB) before the weekend. \nIf you are interested in attending\, please register with the event coordinator\, Zac Zaharias (details below). He will then send you details including the camping location and possible car pooling options. \n  \nBlue Lake image gallery  Blue Lake climbing guide \n 
URL:https://canberraclimbing.org.au/event/blue-lake-climbing-weekend-2018/
LOCATION:Blue Lake\, Blue Lake Kosciuszko National Park\, NSW\, Australia
CATEGORIES:CCA outdoor climbing days
ATTACH;FMTTYPE=image/jpeg:https://canberraclimbing.org.au/wp-content/uploads/2018/01/Blue-Lake-Dihedral-Corner-1Apr2017landscape.jpg
ORGANIZER;CN="Zac Zaharias":MAILTO:zaharias@iinet.net.au
GEO:-36.4043142;148.3153717
X-APPLE-STRUCTURED-LOCATION;VALUE=URI;X-ADDRESS=Blue Lake Blue Lake Kosciuszko National Park NSW Australia;X-APPLE-RADIUS=500;X-TITLE=Blue Lake Kosciuszko National Park:geo:148.3153717,-36.4043142
END:VEVENT
BEGIN:VEVENT
DTSTART;TZID=Australia/Sydney:20180212T190000
DTEND;TZID=Australia/Sydney:20180212T220000
DTSTAMP:20260421T185611
CREATED:20180207T032442Z
LAST-MODIFIED:20191016T104618Z
UID:10000113-1518462000-1518472800@canberraclimbing.org.au
SUMMARY:European Outdoor Film Tour - CCA member ticket discount
DESCRIPTION:European Outdoor Film Tour is one of the world’s best outdoor adventure film tours. The films cover a whole variety of different outdoor adventure activities including expedition travel\, mountain biking\, climbing\, mountaineering\, skiing and kayaking. \nCheck out more at www.eoftaustralia.com or watch the trailer: \n \nCCA has secured an exclusive partner discount for the European Outdoor Film Tour\, which gives our members access to $20 tickets for the event. \nAll CCA members will be receiving\, via email\, a special discount code that you can enter at the end of the process when purchasing your ticket. \nSo why not make an evening of it!? Some “buildering” at the library wall\, then kick back with a cold one and be inspired for your next adventure… “no script\, no actors\, no special effects”.
URL:https://canberraclimbing.org.au/event/european-outdoor-film-tour-cca-member-ticket-discount/
LOCATION:Canberra Openair Cinema\, Patrick White Lawns\, Canberra\, ACT\, 2600\, Australia
CATEGORIES:CCA special events
ATTACH;FMTTYPE=image/jpeg:https://canberraclimbing.org.au/wp-content/uploads/2018/02/EOFT.jpg
ORGANIZER;CN="Zac Zaharias":MAILTO:zaharias@iinet.net.au
GEO:-35.2961067;149.1311257
X-APPLE-STRUCTURED-LOCATION;VALUE=URI;X-ADDRESS=Canberra Openair Cinema Patrick White Lawns Canberra ACT 2600 Australia;X-APPLE-RADIUS=500;X-TITLE=Patrick White Lawns:geo:149.1311257,-35.2961067
END:VEVENT
BEGIN:VEVENT
DTSTART;VALUE=DATE:20170331
DTEND;VALUE=DATE:20170403
DTSTAMP:20260421T185611
CREATED:20170203T061313Z
LAST-MODIFIED:20201221T225210Z
UID:10000101-1490918400-1491177599@canberraclimbing.org.au
SUMMARY:Blue Lake climbing weekend 2017
DESCRIPTION:Blue Lake in Kosciuszko National Park\, NSW\, is a rare and beautiful cirque lake which has some of the clearest waters of any Australian lake. Granite cliffs of up to 55m overlook the west side of Blue Lake\, providing some wonderful traditional climbing and the only alpine climbing area in Australia. \nCCA holds this annual climbing weekend\, which is open to all CCA members and to non-members who join CCA ($20 for one year or $50 for three years) at the beginning of the weekend. All participants will also need to sign a CCA Activity Waiver (PDF 75KB) before the weekend. \nIf you are interested in attending\, please register with the event coordinator\, Zac Zaharias (details below). He will then send you details including the camping location and possible car pooling options. \n» visit the Blue Lake image gallery \n» see routes and climbing guides for Blue Lake
URL:https://canberraclimbing.org.au/event/blue-lake-climbing-weekend-2017/
LOCATION:Blue Lake\, Blue Lake Kosciuszko National Park\, NSW\, Australia
CATEGORIES:CCA outdoor climbing days
ATTACH;FMTTYPE=image/jpeg:https://canberraclimbing.org.au/wp-content/uploads/2018/12/blue-lake-11.jpg
ORGANIZER;CN="Zac Zaharias":MAILTO:zaharias@iinet.net.au
GEO:-36.4043142;148.3153717
X-APPLE-STRUCTURED-LOCATION;VALUE=URI;X-ADDRESS=Blue Lake Blue Lake Kosciuszko National Park NSW Australia;X-APPLE-RADIUS=500;X-TITLE=Blue Lake Kosciuszko National Park:geo:148.3153717,-36.4043142
END:VEVENT
END:VCALENDAR